BEGIN:VCALENDAR
VERSION:2.0
PRODID:-//ChamberMaster//Event Calendar 2.0//EN
METHOD:PUBLISH
X-PUBLISHED-TTL:P3D
REFRESH-INTERVAL:P3D
CALSCALE:GREGORIAN
BEGIN:VEVENT
DTSTART:20260514T190000Z
DTEND:20260514T200000Z
X-MICROSOFT-CDO-ALLDAYEVENT:FALSE
SUMMARY:John Muir Health Webinar- Mental Health Awareness
DESCRIPTION:Please be sure to check out the next John Muir Health May webinar on mental health awareness.\n\n \n\nDate: Thursday\, May 14\, 2026\n\nTime: 12:00   1:00 PM\n\n \n\nJoin Anna Sabio\, Director\, Behavioral Health\, as she presents John Muir Health's Behavioral Health and Family Resources including our new Skills Handbook: Your Path to Resiliency and Recovery \n\n \n\n \nRegister here: https://us06web.zoom.us/webinar/register/WN_RQDoBmMTSBq340uQgfDpPg#/registration
X-ALT-DESC;FMTTYPE=text/html:Please be sure to check out the next John Muir Health May webinar on mental health awareness.<br />\n&nbsp\;<br />\nDate: Thursday\, May 14\, 2026<br />\nTime: 12:00 &ndash\; 1:00 PM<br />\n&nbsp\;<br />\nJoin Anna Sabio\, Director\, Behavioral Health\, as she presents John Muir Health&rsquo\;s Behavioral Health and Family Resources including our new Skills Handbook: Your Path to Resiliency and Recovery&nbsp\;<br />\n&nbsp\;<br />\n&nbsp\;\n<div>Register here: <a href="https://us06web.zoom.us/webinar/register/WN_RQDoBmMTSBq340uQgfDpPg#/registration">https://us06web.zoom.us/webinar/register/WN_RQDoBmMTSBq340uQgfDpPg#/registration</a></div>\n
LOCATION:Virtual Register here: https://us06web.zoom.us/webinar/register/WN_RQDoBmMTSBq340uQgfDpPg#/registration
UID:e.1162.10749
SEQUENCE:3
DTSTAMP:20260423T202622Z
URL:https://members.sanramon.org/events/details/john-muir-health-webinar-mental-health-awareness-10749
END:VEVENT

END:VCALENDAR
