BEGIN:VCALENDAR
VERSION:2.0
PRODID:-//ChamberMaster//Event Calendar 2.0//EN
METHOD:PUBLISH
X-PUBLISHED-TTL:P3D
REFRESH-INTERVAL:P3D
CALSCALE:GREGORIAN
BEGIN:VEVENT
DTSTART:20260624T233000Z
DTEND:20260625T003000Z
X-MICROSOFT-CDO-ALLDAYEVENT:FALSE
SUMMARY:Ribbon Cutting Celebration at FFB Bank in San Ramon
DESCRIPTION:Please join us for a Ribbon Cutting celebration at one of our newest members\, FFB Bank in San Ramon!\n\n\n\nFFB Bank (formerly Communities First Financial Corporation)\, headquartered in Fresno\, California\, is a high-performing community bank founded in 2005\, serving businesses and professionals with tailored financial solutions. It operates as a public company and specializes in personalized\, high-tech\, and high-touch services.\n\n\n\nLearn More HERE.
X-ALT-DESC;FMTTYPE=text/html:<br />\n<span style="font-size:14px\;"><span style="font-family:verdana\;"><strong>Please join us for a Ribbon Cutting celebration at one of our newest members\, FFB Bank in San Ramon!</strong><br />\n<br />\n<span style="font-size:12px\;"><span style="color: rgb(10\, 10\, 10)\;">FFB Bank (formerly Communities First Financial Corporation)\, headquartered in Fresno\, California\, is a high-performing community bank founded in 2005\, serving businesses and professionals with tailored financial solutions. It operates as a public company and specializes in personalized\, high-tech\, and high-touch services.<br />\n<br />\nLearn More<strong> <a href="https://www.ffb.bank/">HERE</a>.</strong></span></span></span></span>
LOCATION:FFB Bank 6101 Bollinger Canyon Road\, Suite 125 Bishop Ranch 1 San Ramon\, CA 94583
UID:e.1162.10748
SEQUENCE:3
DTSTAMP:20260424T031408Z
URL:https://members.sanramon.org/events/details/ribbon-cutting-celebration-at-ffb-bank-in-san-ramon-10748
END:VEVENT

END:VCALENDAR
