BEGIN:VCALENDAR
VERSION:2.0
PRODID:-//ChamberMaster//Event Calendar 2.0//EN
METHOD:PUBLISH
X-PUBLISHED-TTL:P3D
REFRESH-INTERVAL:P3D
CALSCALE:GREGORIAN
BEGIN:VEVENT
DTSTART:20260520T233000Z
DTEND:20260521T003000Z
X-MICROSOFT-CDO-ALLDAYEVENT:FALSE
SUMMARY:Ribbon Cutting Celebration at Shine Bright Fitness - San Ramon
DESCRIPTION:Please join us for a Ribbon Cutting celebration at one of our newest members\, Shine Bright Fitness\, in San Ramon!\n\n\n\nMore details to follow soon.
X-ALT-DESC;FMTTYPE=text/html:<br />\n<span style="font-size:14px\;"><span style="font-family:verdana\;">Please join us for a Ribbon Cutting celebration at one of our newest members\,&nbsp\;Shine Bright Fitness\, in San Ramon!<br />\n<br />\n<span style="font-size:12px\;"><em>More details to follow soon.</em></span></span></span>
LOCATION:Shine Bright Fitness 2821 Crow Canyon Road San Ramon\, CA 94583
UID:e.1162.10747
SEQUENCE:3
DTSTAMP:20260422T035353Z
URL:https://members.sanramon.org/events/details/ribbon-cutting-celebration-at-shine-bright-fitness-san-ramon-10747
END:VEVENT

END:VCALENDAR
